BEGIN:VCALENDAR
VERSION:2.0
PRODID:spatie/icalendar-generator
DESCRIPTION:Events from fmaec
X-WR-CALDESC:Events from fmaec
REFRESH-INTERVAL;VALUE=DURATION:PT1440M
X-PUBLISHED-TTL:PT1440M
BEGIN:VTIMEZONE
TZID:Europe/Madrid
BEGIN:DAYLIGHT
DTSTART:20240331T020000Z
TZOFFSETFROM:+0100
TZOFFSETTO:+0200
END:DAYLIGHT
BEGIN:STANDARD
DTSTART:20241027T030000Z
TZOFFSETFROM:+0200
TZOFFSETTO:+0100
END:STANDARD
END:VTIMEZONE
BEGIN:VTIMEZONE
TZID:UTC
BEGIN:STANDARD
DTSTART:20250724T071438Z
TZOFFSETFROM:+0000
TZOFFSETTO:+0000
END:STANDARD
END:VTIMEZONE
BEGIN:VEVENT
UID:15-13
DTSTAMP:20260420T071438Z
SUMMARY:Almuerzo solidario Caseta La Jarana (Recinto ferial)
LOCATION:
ORGANIZER;CN=inforeflipa:MAILTO:inforeflipa@gmail.com
DTSTART;TZID=Europe/Madrid;VALUE=DATE:20240822
DTEND;TZID=Europe/Madrid;VALUE=DATE:20240823
X-ALT-DESC;FMTTYPE=TEXT/HTML:<p>El próximo jueves 22 de agosto\, os espera
 mos en el Almuerzo solidario Caseta La Jarana (Recinto ferial) a beneficio
  de FMAEC y Fundación Olivares. Donativo 45€ y las reservas y venta de 
 entradas se realiza a través del whatsApp 607 99 19 10. Posteriormente al
  almuerzo\, tendremos la actuación musical de IPOP . Os esperamos 💙
 💙</p>\n
CATEGORIES:General
URL;VALUE=URI:https://fmaec.org/mc-events/almuerzo-solidario-caseta-la-jara
 na-recinto-ferial/
METHOD:PUBLISH
END:VEVENT
END:VCALENDAR